BEGIN:VCALENDAR
VERSION:2.0
PRODID:-//İnegazili Köyü Derneği - ECPv6.13.0//NONSGML v1.0//EN
CALSCALE:GREGORIAN
METHOD:PUBLISH
X-WR-CALNAME:İnegazili Köyü Derneği
X-ORIGINAL-URL:https://www.inegazili.com
X-WR-CALDESC:İnegazili Köyü Derneği için etkinlikler
REFRESH-INTERVAL;VALUE=DURATION:PT1H
X-Robots-Tag:noindex
X-PUBLISHED-TTL:PT1H
BEGIN:VTIMEZONE
TZID:America/Sao_Paulo
BEGIN:STANDARD
TZOFFSETFROM:-0300
TZOFFSETTO:-0300
TZNAME:-03
DTSTART:20250101T000000
END:STANDARD
END:VTIMEZONE
BEGIN:VEVENT
DTSTART;TZID=America/Sao_Paulo:20251108T190000
DTEND;TZID=America/Sao_Paulo:20251108T233000
DTSTAMP:20260420T122503
CREATED:20250518T092753Z
LAST-MODIFIED:20250519T192105Z
UID:368-1762628400-1762644600@www.inegazili.com
SUMMARY:Düğün
DESCRIPTION:Bilgilendirme: Üyelerimizden Engin Savcıoğlu’nun kızının düğün tarihi 08.11.2025 lütfen kaydedelim.
URL:https://www.inegazili.com/event/dugun/
ATTACH;FMTTYPE=image/png:https://www.inegazili.com/wp-content/uploads/2025/05/White-and-Brown-Simple-Wedding-Invitation.png
END:VEVENT
END:VCALENDAR